BEGIN:VCALENDAR
VERSION:2.0
CALSCALE:GREGORIAN
PRODID:adamgibbons/ics
METHOD:PUBLISH
X-PUBLISHED-TTL:PT1H
BEGIN:VEVENT
UID:534@tucsontimeline.info
SUMMARY:Tucson Mesh Hackernoon
DTSTAMP:20260423T130543Z
DTSTART:20260321T190000Z
DTEND:20260321T210000Z
DESCRIPTION:Saturday\, March 21\, 12 - 2 p.m.\nBCC\n657 W St. Mary's Rd.\, 
	Unit C11\n\nHacking is a mindset\, not a skill set. If you need time for w
	orking on a project\nthat subverts or circumvents systems\, or seeks a pra
	gmatic\, clever approach to a\nproblem\, or you're chasing the joy of lear
	ning something new\, come hang at\nTucson Mesh's hacker study hall.
URL:https://tucsontimeline.info/event/tucson-mesh-hackernoon-4
LOCATION:The New BCC - 657 W St Marys
STATUS:CONFIRMED
CATEGORIES:tucsonmesh
X-ALT-DESC;FMTTYPE=text/html:<p>Saturday, March 21, 12 - 2 p.m.<br>BCC<br>6
	57 W St. Mary's Rd., Unit C11<br><br>Hacking is a mindset, not a skill set
	. If you need time for working on a project that subverts or circumvents s
	ystems, or seeks a pragmatic, clever approach to a problem, or you're chas
	ing the joy of learning something new, come hang at Tucson Mesh's hacker s
	tudy hall.</p>
END:VEVENT
BEGIN:VEVENT
UID:522@tucsontimeline.info
SUMMARY:Tucson Mesh Hackernoon
DTSTAMP:20260423T130543Z
DTSTART:20260221T190000Z
DTEND:20260221T210000Z
DESCRIPTION:🐱‍💻 Tucson Mesh Hackernoon 🐱‍💻\n\nSaturday\, February 21\, 12 - 2 p
	.m.\n\nBCC\n\n657 W St. Mary's Rd.\, Unit C11\n\nHacking is a mindset\, no
	t a skill set. If you need time for working on a project\nthat subverts or
	 circumvents systems\, or seeks a pragmatic\, clever approach to a\nproble
	m\, or you're chasing the joy of learning something new\, come hang at\nTu
	cson Mesh's hacker study hall.\n\nThis is happening concurrently with the 
	sick pop-up coffee shop and always\namazing BCC library hours\, so the spa
	ce will be busy\, but we've reserved the\nloft and can spread out as neede
	d.
URL:https://tucsontimeline.info/event/tucson-mesh-hackernoon-3
LOCATION:The New BCC - 657 W St Marys
STATUS:CONFIRMED
CATEGORIES:tucsonmesh
X-ALT-DESC;FMTTYPE=text/html:<p>🐱‍💻 Tucson Mesh Hackernoon 🐱‍💻</p><p>Saturday, 
	February 21, 12 - 2 p.m.</p><p>BCC</p><p>657 W St. Mary's Rd., Unit C11</p
	><p>Hacking is a mindset, not a skill set. If you need time for working on
	 a project that subverts or circumvents systems, or seeks a pragmatic, cle
	ver approach to a problem, or you're chasing the joy of learning something
	 new, come hang at Tucson Mesh's hacker study hall.</p><p>This is happenin
	g concurrently with the sick pop-up coffee shop and always amazing BCC lib
	rary hours, so the space will be busy, but we've reserved the loft and can
	 spread out as needed.</p>
END:VEVENT
BEGIN:VEVENT
UID:500@tucsontimeline.info
SUMMARY:Tucson Mesh Hackernoon
DTSTAMP:20260423T130543Z
DTSTART:20260131T190000Z
DTEND:20260131T210000Z
DESCRIPTION:Join Tucson Mesh for hackernoons\, Saturday Jan 17\, 24\, and 3
	1 from 12-2pm at the\nBCC (657 W St Marys Rd Unit C11). These will be open
	 hack hours\, bring a rad\ntech project\, build one with others\, discuss 
	topics like digital security\, and\nhelp build tech skills with each other
	. Hope to see you there! Parking for the\nBCC is across the street in the 
	dirt lot.
URL:https://tucsontimeline.info/event/tucson-mesh-hackernoon-2
LOCATION:The New BCC - 657 W St Marys
STATUS:CONFIRMED
CATEGORIES:community,computing,hacking,tucsonmesh
X-ALT-DESC;FMTTYPE=text/html:<p>Join Tucson Mesh for hackernoons, Saturday 
	Jan 17, 24, and 31 from 12-2pm at the BCC (657 W St Marys Rd Unit C11). Th
	ese will be open hack hours, bring a rad tech project, build one with othe
	rs, discuss topics like digital security, and help build tech skills with 
	each other. Hope to see you there! Parking for the BCC is across the stree
	t in the dirt lot.</p>
END:VEVENT
BEGIN:VEVENT
UID:499@tucsontimeline.info
SUMMARY:Tucson Mesh Hackernoon
DTSTAMP:20260423T130543Z
DTSTART:20260124T190000Z
DTEND:20260124T210000Z
DESCRIPTION:Join Tucson Mesh for hackernoons\, Saturday Jan 17\, 24\, and 3
	1 from 12-2pm at the\nBCC (657 W St Marys Rd Unit C11). These will be open
	 hack hours\, bring a rad\ntech project\, build one with others\, discuss 
	topics like digital security\, and\nhelp build tech skills with each other
	. Hope to see you there! Parking for the\nBCC is across the street in the 
	dirt lot.
URL:https://tucsontimeline.info/event/tucson-mesh-hackernoon-1
LOCATION:The New BCC - 657 W St Marys
STATUS:CONFIRMED
CATEGORIES:community,computing,hacking,tucsonmesh
X-ALT-DESC;FMTTYPE=text/html:<p>Join Tucson Mesh for hackernoons, Saturday 
	Jan 17, 24, and 31 from 12-2pm at the BCC (657 W St Marys Rd Unit C11). Th
	ese will be open hack hours, bring a rad tech project, build one with othe
	rs, discuss topics like digital security, and help build tech skills with 
	each other. Hope to see you there! Parking for the BCC is across the stree
	t in the dirt lot.</p>
END:VEVENT
BEGIN:VEVENT
UID:498@tucsontimeline.info
SUMMARY:Tucson Mesh Hackernoon
DTSTAMP:20260423T130543Z
DTSTART:20260117T190000Z
DTEND:20260117T210000Z
DESCRIPTION:Join Tucson Mesh for hackernoons\, Saturday Jan 17\, 24\, and 3
	1 from 12-2pm at the\nBCC (657 W St Marys Rd Unit C11). These will be open
	 hack hours\, bring a rad\ntech project\, build one with others\, discuss 
	topics like digital security\, and\nhelp build tech skills with each other
	. Hope to see you there! Parking for the\nBCC is across the street in the 
	dirt lot.
URL:https://tucsontimeline.info/event/tucson-mesh-hackernoon
LOCATION:The New BCC - 657 W St Marys
STATUS:CONFIRMED
CATEGORIES:community,computing,hacking,tucsonmesh
X-ALT-DESC;FMTTYPE=text/html:<p>Join Tucson Mesh for hackernoons, Saturday 
	Jan 17, 24, and 31 from 12-2pm at the BCC (657 W St Marys Rd Unit C11). Th
	ese will be open hack hours, bring a rad tech project, build one with othe
	rs, discuss topics like digital security, and help build tech skills with 
	each other. Hope to see you there! Parking for the BCC is across the stree
	t in the dirt lot.</p>
END:VEVENT
BEGIN:VEVENT
UID:203@tucsontimeline.info
SUMMARY:Strange Days - Tucson Mesh Movie Night
DTSTAMP:20260423T130543Z
DTSTART:20250309T003000Z
DTEND:20250309T033000Z
DESCRIPTION:Join us for a screening of Strange Days (1995) another landmark
	 film of the\nCyber Cinema genre.\n\nSaturday March 8th\nDoors 5:30\, Scre
	ening at 6:00\nWildcat Storage unit C11\n657 W St Marys\n\nThis will be Tu
	cson Mesh's first event in the new BCC location at Wildcat\nStorage. We ar
	e excited to be sharing a new space with familiar projects and new\nones t
	hat have yet to start!\n\nParking in dirt lot on north side of St Mary's. 
	Cross at crosswalk leading to\nEcoGrow. Turn left and walk East on St.Mary
	's. C11 is on East side of the\nWildcat Storage building.
URL:https://tucsontimeline.info/event/strange-days-tucson-mesh-movie-night
LOCATION:The New BCC - 657 W St Marys
STATUS:CONFIRMED
CATEGORIES:Film
X-ALT-DESC;FMTTYPE=text/html:<p>Join us for a screening of Strange Days (19
	95) another landmark film of the Cyber Cinema genre.<br><br>Saturday March
	 8th<br>Doors 5:30, Screening at 6:00<br>Wildcat Storage unit C11<br>657 W
	 St Marys<br><br>This will be Tucson Mesh's first event in the new BCC loc
	ation at Wildcat Storage. We are excited to be sharing a new space with fa
	miliar projects and new ones that have yet to start!<br><br>Parking in dir
	t lot on north side of St Mary's. Cross at crosswalk leading to EcoGrow. T
	urn left and walk East on St.Mary's. C11 is on East side of the Wildcat St
	orage building.</p>
END:VEVENT
END:VCALENDAR
